BEGIN:VCALENDAR
VERSION:2.0
PRODID:-//Godoy Cruz - ECPv4.5.8.1//NONSGML v1.0//EN
CALSCALE:GREGORIAN
METHOD:PUBLISH
X-WR-CALNAME:Godoy Cruz
X-ORIGINAL-URL:https://www.godoycruz.sisargentina.com
X-WR-CALDESC:Events for Godoy Cruz
BEGIN:VEVENT
DTSTART;TZID=UTC-3:20210611T213000
DTEND;TZID=UTC-3:20210611T213000
DTSTAMP:20260422T215632
CREATED:20210605T001846Z
LAST-MODIFIED:20210605T001846Z
UID:78302-1623447000-1623447000@www.godoycruz.sisargentina.com
SUMMARY:Zona Teatro Godoy Cruz\, Salas Independientes
DESCRIPTION:[vc_row][vc_column][vc_column_text]Espectáculos para disfrutar en espacios culturales de Godoy Cruz. \nColectivo Cultural Sin Fin (San Rafael). \nLa Colombina Centro Cultural (Balcarce 220\, Godoy Cruz). \nEntradas en venta:\nVía online: http://bit.ly/EntradalaColombina\nEn la taquilla de la sala\, el mismo día de la función. \nCupos limitados.[/vc_column_text][/vc_column][/vc_row][vc_row][vc_column][vc_single_image image=»78303″ img_size=»full»][/vc_column][/vc_row] \n
URL:https://www.godoycruz.sisargentina.com/evento/zona-teatro-godoy-cruz-salas-independientes-9/
ATTACH;FMTTYPE=image/jpeg:https://www.godoycruz.sisargentina.com/wp-content/uploads/2021/06/WhatsApp-Image-2021-06-04-at-14.19.49.jpeg
END:VEVENT
END:VCALENDAR