BEGIN:VCALENDAR
VERSION:2.0
PRODID:-//Godoy Cruz - ECPv4.5.8.1//NONSGML v1.0//EN
CALSCALE:GREGORIAN
METHOD:PUBLISH
X-WR-CALNAME:Godoy Cruz
X-ORIGINAL-URL:https://www.godoycruz.sisargentina.com
X-WR-CALDESC:Events for Godoy Cruz
BEGIN:VEVENT
DTSTART;TZID=UTC-3:20211127T183000
DTEND;TZID=UTC-3:20211127T183000
DTSTAMP:20260422T142902
CREATED:20211112T154111Z
LAST-MODIFIED:20211112T154111Z
UID:83871-1638037800-1638037800@www.godoycruz.sisargentina.com
SUMMARY:Zona Teatro Godoy Cruz\, Salas Independientes
DESCRIPTION:[vc_row][vc_column][vc_column_text]Espectáculos para disfrutar en diferentes espacios de Godoy Cruz. \n“Lo que me dijo la Guáchara”. Elenco del Azulejo. \nEntradas en venta \nVía online: https://bit.ly/EntradasGiraluna \nEn la taquilla de la sala\, el mismo día de la función. \nCupos limitados.[/vc_column_text][/vc_column][/vc_row][vc_row][vc_column][vc_single_image image=»83872″ img_size=»full»][/vc_column][/vc_row] \n
URL:https://www.godoycruz.sisargentina.com/evento/zona-teatro-godoy-cruz-salas-independientes-34/
ATTACH;FMTTYPE=image/jpeg:https://www.godoycruz.sisargentina.com/wp-content/uploads/2021/11/255275488_2156942711128662_8820816698582688257_n.jpg
END:VEVENT
END:VCALENDAR