BEGIN:VCALENDAR
VERSION:2.0
PRODID:-//Godoy Cruz - ECPv4.5.8.1//NONSGML v1.0//EN
CALSCALE:GREGORIAN
METHOD:PUBLISH
X-WR-CALNAME:Godoy Cruz
X-ORIGINAL-URL:https://www.godoycruz.sisargentina.com
X-WR-CALDESC:Events for Godoy Cruz
BEGIN:VEVENT
DTSTART;TZID=UTC-3:20211031T210000
DTEND;TZID=UTC-3:20211031T210000
DTSTAMP:20260422T203017
CREATED:20211027T194346Z
LAST-MODIFIED:20211027T194346Z
UID:83243-1635714000-1635714000@www.godoycruz.sisargentina.com
SUMMARY:Zona Teatro Godoy Cruz\, Salas Independientes
DESCRIPTION:[vc_row][vc_column][vc_column_text]Espectáculos para disfrutar en diferentes espacios de Godoy Cruz. \n“En todos lados”. \nDir. Gabriela Simon. \nCasa Violeta (Paraguay 1474). \nEntradas en venta:\nVía online: https://bit.ly/EntradasCasaVioleta\nEn la taquilla de la sala\, el mismo día de la función. \nCupos limitados.[/vc_column_text][/vc_column][/vc_row][vc_row][vc_column][vc_single_image image=»83244″ img_size=»full»][/vc_column][/vc_row] \n
URL:https://www.godoycruz.sisargentina.com/evento/zona-teatro-godoy-cruz-salas-independientes-30/
ATTACH;FMTTYPE=image/png:https://www.godoycruz.sisargentina.com/wp-content/uploads/2021/10/247243759_2143550552467878_5850243254547080442_n.png
END:VEVENT
END:VCALENDAR