BEGIN:VCALENDAR
VERSION:2.0
PRODID:-//Godoy Cruz - ECPv4.5.8.1//NONSGML v1.0//EN
CALSCALE:GREGORIAN
METHOD:PUBLISH
X-WR-CALNAME:Godoy Cruz
X-ORIGINAL-URL:https://www.godoycruz.sisargentina.com
X-WR-CALDESC:Events for Godoy Cruz
BEGIN:VEVENT
DTSTART;TZID=UTC-3:20211031T213000
DTEND;TZID=UTC-3:20211031T213000
DTSTAMP:20260422T155801
CREATED:20211027T191827Z
LAST-MODIFIED:20211027T191827Z
UID:83232-1635715800-1635715800@www.godoycruz.sisargentina.com
SUMMARY:Zona Teatro Godoy Cruz\, Salas Independientes
DESCRIPTION:[vc_row][vc_column][vc_column_text]Espectáculos para disfrutar en diferentes espacios de Godoy Cruz. \n“La joven que descubrió el cielo”. \nCompañía N/N. \nDir. Natacha Gabrielli. \nLa Colombina Centro Cultural (Balcarce 220\, Godoy Cruz). \nEntradas en venta:\nVía online: https://bit.ly/EntradaLaColombina\nEn la taquilla de la sala\, el mismo día de la función. \nCupos limitados.[/vc_column_text][/vc_column][/vc_row][vc_row][vc_column][vc_single_image image=»83234″ img_size=»full»][/vc_column][/vc_row] \n
URL:https://www.godoycruz.sisargentina.com/evento/zona-teatro-godoy-cruz-salas-independientes-28/
ATTACH;FMTTYPE=image/png:https://www.godoycruz.sisargentina.com/wp-content/uploads/2021/10/247774330_2143550532467880_7671984772051475335_n.png
END:VEVENT
END:VCALENDAR