BEGIN:VCALENDAR
VERSION:2.0
PRODID:-//Godoy Cruz - ECPv4.5.8.1//NONSGML v1.0//EN
CALSCALE:GREGORIAN
METHOD:PUBLISH
X-WR-CALNAME:Godoy Cruz
X-ORIGINAL-URL:https://www.godoycruz.sisargentina.com
X-WR-CALDESC:Events for Godoy Cruz
BEGIN:VEVENT
DTSTART;TZID=UTC-3:20211030T213000
DTEND;TZID=UTC-3:20211030T213000
DTSTAMP:20260422T172750
CREATED:20211027T190058Z
LAST-MODIFIED:20211027T190058Z
UID:83221-1635629400-1635629400@www.godoycruz.sisargentina.com
SUMMARY:Zona Teatro Godoy Cruz\, Salas Independientes
DESCRIPTION:[vc_row][vc_column][vc_column_text]Espectáculos para disfrutar en diferentes espacios de Godoy Cruz. \n“Afectos colaterales v3.0”. \nAnónimo Drama Multidisciplinario. \nDir. Carlos Nóhpal. \nEnkosala Gladys Ravalle (Almirante Brown 755\, Godoy Cruz). \nEntradas en venta:\nVía online: bit.ly/EntradasEnkosala\nEn la taquilla de la sala\, el mismo día de la función. \nCupos limitados.[/vc_column_text][/vc_column][/vc_row][vc_row][vc_column][vc_single_image image=»83223″ img_size=»full»][/vc_column][/vc_row] \n
URL:https://www.godoycruz.sisargentina.com/evento/zona-teatro-godoy-cruz-salas-independientes-26/
ATTACH;FMTTYPE=image/jpeg:https://www.godoycruz.sisargentina.com/wp-content/uploads/2021/10/247439806_2143550509134549_5386507047447387238_n.jpg
END:VEVENT
END:VCALENDAR