BEGIN:VCALENDAR
VERSION:2.0
PRODID:-//Godoy Cruz - ECPv4.5.8.1//NONSGML v1.0//EN
CALSCALE:GREGORIAN
METHOD:PUBLISH
X-WR-CALNAME:Godoy Cruz
X-ORIGINAL-URL:https://www.godoycruz.sisargentina.com
X-WR-CALDESC:Events for Godoy Cruz
BEGIN:VEVENT
DTSTART;TZID=UTC-3:20211029T220000
DTEND;TZID=UTC-3:20211029T220000
DTSTAMP:20260422T173914
CREATED:20211027T184835Z
LAST-MODIFIED:20211027T184835Z
UID:83214-1635544800-1635544800@www.godoycruz.sisargentina.com
SUMMARY:Zona Teatro Godoy Cruz\, Salas Independientes
DESCRIPTION:[vc_row][vc_column][vc_column_text]Espectáculos para disfrutar en diferentes espacios de Godoy Cruz. \n“El vuelo de la mosca”\, de Mariano Saba. \nDir. Cristian Bustos. \nEnkosala Gladys Ravalle (Almirante Brown 755\, Godoy Cruz). \nEntradas en venta:\nVía online: bit.ly/EntradasEnkosala \nEn la taquilla de la sala\, el mismo día de la función. \nCupos limitados.[/vc_column_text][/vc_column][/vc_row][vc_row][vc_column][vc_single_image image=»83215″ img_size=»full»][/vc_column][/vc_row] \n
URL:https://www.godoycruz.sisargentina.com/evento/zona-teatro-godoy-cruz-salas-independientes-25/
ATTACH;FMTTYPE=image/jpeg:https://www.godoycruz.sisargentina.com/wp-content/uploads/2021/10/246880074_2143550565801210_435429514032439255_n.jpg
END:VEVENT
END:VCALENDAR