BEGIN:VCALENDAR
VERSION:2.0
PRODID:-//Godoy Cruz - ECPv4.5.8.1//NONSGML v1.0//EN
CALSCALE:GREGORIAN
METHOD:PUBLISH
X-WR-CALNAME:Godoy Cruz
X-ORIGINAL-URL:https://www.godoycruz.sisargentina.com
X-WR-CALDESC:Events for Godoy Cruz
BEGIN:VEVENT
DTSTART;TZID=UTC-3:20210924T210000
DTEND;TZID=UTC-3:20210924T210000
DTSTAMP:20260422T185535
CREATED:20210923T160139Z
LAST-MODIFIED:20210923T160139Z
UID:82083-1632517200-1632517200@www.godoycruz.sisargentina.com
SUMMARY:Zona Teatro Godoy Cruz\, Salas Independientes
DESCRIPTION:[vc_row][vc_column][vc_column_text]Espectáculos para disfrutar en espacios culturales de Godoy Cruz. \nAniversario por los 24 años del Teatro Gladys Ravalle. \nTeatro breve. Obras: \nFeminofilia (de Carolina Lursen). \nDuelo de Titanes para ellas (Dirección: Juan Comotti). \nUmbral Kümel Hartman (de Pablo Albarello). \nEntradas en venta\nVía online: https://bit.ly/EntradasEnkosala\nEn la taquilla de la sala\, el mismo día de la función. \nCupos limitados.[/vc_column_text][/vc_column][/vc_row][vc_row][vc_column][vc_single_image image=»82084″ img_size=»full»][/vc_column][/vc_row] \n
URL:https://www.godoycruz.sisargentina.com/evento/zona-teatro-godoy-cruz-salas-independientes-23/
ATTACH;FMTTYPE=image/png:https://www.godoycruz.sisargentina.com/wp-content/uploads/2021/09/242201379_2117673858388881_340606359586088660_n.png
END:VEVENT
END:VCALENDAR