BEGIN:VCALENDAR
VERSION:2.0
PRODID:-//Godoy Cruz - ECPv4.5.8.1//NONSGML v1.0//EN
CALSCALE:GREGORIAN
METHOD:PUBLISH
X-WR-CALNAME:Godoy Cruz
X-ORIGINAL-URL:https://www.godoycruz.sisargentina.com
X-WR-CALDESC:Events for Godoy Cruz
BEGIN:VEVENT
DTSTART;TZID=UTC-3:20210926T210000
DTEND;TZID=UTC-3:20210926T210000
DTSTAMP:20260422T185531
CREATED:20210914T175636Z
LAST-MODIFIED:20210914T175636Z
UID:81775-1632690000-1632690000@www.godoycruz.sisargentina.com
SUMMARY:Zona Teatro Godoy Cruz\, Salas Independientes
DESCRIPTION:[vc_row][vc_column][vc_column_text]Espectáculos para disfrutar en espacios culturales de Godoy Cruz. \nObra: Lo que viene. \nIntérpretes: Gabriela Simón y Virginia Di Blasi. \nEntradas en venta\nVía online: https://bit.ly/EntradaLaColombina\nEn la taquilla de la sala\, el mismo día de la función. \nCupos limitados.[/vc_column_text][/vc_column][/vc_row][vc_row][vc_column][vc_single_image image=»81776″ img_size=»full»][/vc_column][/vc_row] \n
URL:https://www.godoycruz.sisargentina.com/evento/zona-teatro-godoy-cruz-salas-independientes-22/
ATTACH;FMTTYPE=image/jpeg:https://www.godoycruz.sisargentina.com/wp-content/uploads/2021/09/241815133_2109458832543717_3562234596344878727_n.jpg
END:VEVENT
END:VCALENDAR