BEGIN:VCALENDAR
VERSION:2.0
PRODID:-//Godoy Cruz - ECPv4.5.8.1//NONSGML v1.0//EN
CALSCALE:GREGORIAN
METHOD:PUBLISH
X-WR-CALNAME:Godoy Cruz
X-ORIGINAL-URL:https://www.godoycruz.sisargentina.com
X-WR-CALDESC:Events for Godoy Cruz
BEGIN:VEVENT
DTSTART;TZID=UTC-3:20210228T210000
DTEND;TZID=UTC-3:20210228T210000
DTSTAMP:20260423T034004
CREATED:20210224T142018Z
LAST-MODIFIED:20210224T142018Z
UID:75110-1614546000-1614546000@www.godoycruz.sisargentina.com
SUMMARY:Zona Teatro Godoy Cruz\, Salas Independientes
DESCRIPTION:[vc_row][vc_column][vc_column_text]Obra: “Algunos días sueltos de noviembre”\, de Sergio Martínez. \nActuación: Pedro Contreras y Sergio Martínez. \nCupos limitados. \nEnkosala Gladys Ravalle (Almirante Brown 755\, Godoy Cruz). \nEntradas en venta:\nBoletería del Teatro Plaza (lunes a viernes\, 8 a 14 h).\nentradaweb.com.ar\nUna hora antes de la función\, en la sala. \n[/vc_column_text][/vc_column][/vc_row][vc_row][vc_column][vc_single_image image=»75105″ img_size=»full»][/vc_column][/vc_row] \n
URL:https://www.godoycruz.sisargentina.com/evento/zona-teatro-godoy-cruz-salas-independientes-2/
ATTACH;FMTTYPE=image/jpeg:https://www.godoycruz.sisargentina.com/wp-content/uploads/2021/02/WhatsApp-Image-2021-02-24-at-09.57.14.jpeg
END:VEVENT
END:VCALENDAR