BEGIN:VCALENDAR
VERSION:2.0
PRODID:-//Godoy Cruz - ECPv4.5.8.1//NONSGML v1.0//EN
CALSCALE:GREGORIAN
METHOD:PUBLISH
X-WR-CALNAME:Godoy Cruz
X-ORIGINAL-URL:https://www.godoycruz.sisargentina.com
X-WR-CALDESC:Events for Godoy Cruz
BEGIN:VEVENT
DTSTART;TZID=UTC-3:20210925T213000
DTEND;TZID=UTC-3:20210925T213000
DTSTAMP:20260422T185539
CREATED:20210914T172300Z
LAST-MODIFIED:20210914T172300Z
UID:81757-1632605400-1632605400@www.godoycruz.sisargentina.com
SUMMARY:Zona Teatro Godoy Cruz\, Salas Independientes
DESCRIPTION:[vc_row][vc_column][vc_column_text]Espectáculos para disfrutar en espacios culturales de Godoy Cruz. \nObra: P.U.T.A (Por Unión de Todas Aquellas)\, \nDirección: Jonathan Maza \nElenco Debe Haber Habido Teatro. \nEntradas en venta\nVía online: https://bit.ly/EntradaLaColombina\nEn la taquilla de la sala\, el mismo día de la función. \nCupos limitados.[/vc_column_text][/vc_column][/vc_row][vc_row][vc_column][vc_single_image image=»81758″ img_size=»full»][/vc_column][/vc_row] \n
URL:https://www.godoycruz.sisargentina.com/evento/zona-teatro-godoy-cruz-salas-independientes-19/
ATTACH;FMTTYPE=image/jpeg:https://www.godoycruz.sisargentina.com/wp-content/uploads/2021/09/241676444_2109458742543726_7081228628767135003_n.jpg
END:VEVENT
END:VCALENDAR