BEGIN:VCALENDAR
VERSION:2.0
PRODID:-//Godoy Cruz - ECPv4.5.8.1//NONSGML v1.0//EN
CALSCALE:GREGORIAN
METHOD:PUBLISH
X-WR-CALNAME:Godoy Cruz
X-ORIGINAL-URL:https://www.godoycruz.sisargentina.com
X-WR-CALDESC:Events for Godoy Cruz
BEGIN:VEVENT
DTSTART;TZID=UTC-3:20221126T183000
DTEND;TZID=UTC-3:20221126T183000
DTSTAMP:20260421T185430
CREATED:20221124T141456Z
LAST-MODIFIED:20221124T141456Z
UID:95632-1669487400-1669487400@www.godoycruz.sisargentina.com
SUMMARY:Zona Teatro
DESCRIPTION:[vc_row][vc_column][vc_column_text]Este ciclo cultural te trae nuevas propuestas escénicas. \nDisfrutá de una cartelera imperdible en esta temporada. \nPodés adquirir tu entrada en la sala o por  https://buff.ly/3V2VSjd \nObra: «Burbujas a los 4 vientos» (ATP)\, con Tony Burbujas (Tony Maslúp).[/vc_column_text][/vc_column][/vc_row][vc_row][vc_column][vc_single_image image=»95633″ img_size=»full»][/vc_column][/vc_row] \n
URL:https://www.godoycruz.sisargentina.com/evento/zona-teatro-2/
ATTACH;FMTTYPE=image/jpeg:https://www.godoycruz.sisargentina.com/wp-content/uploads/2022/11/WhatsApp-Image-2022-11-23-at-11.39.25-1.jpeg
END:VEVENT
END:VCALENDAR