BEGIN:VCALENDAR
VERSION:2.0
PRODID:-//Godoy Cruz - ECPv4.5.8.1//NONSGML v1.0//EN
CALSCALE:GREGORIAN
METHOD:PUBLISH
X-WR-CALNAME:Godoy Cruz
X-ORIGINAL-URL:https://www.godoycruz.sisargentina.com
X-WR-CALDESC:Events for Godoy Cruz
BEGIN:VEVENT
DTSTART;TZID=UTC-3:20190418T193000
DTEND;TZID=UTC-3:20190418T193000
DTSTAMP:20260424T174914
CREATED:20190412T152800Z
LAST-MODIFIED:20190412T152800Z
UID:58520-1555615800-1555615800@www.godoycruz.sisargentina.com
SUMMARY:XX Edición de Música Clásica por los Caminos del Vino 2019
DESCRIPTION:[vc_row][vc_column][vc_column_text]Cuarteto Supernova \nIntegrado por Rosario González Sáenz y Roger Campos\, violines; José Guevara\, viola; Noelia Pavez\, cello.[/vc_column_text][/vc_column][/vc_row][vc_row][vc_column][vc_single_image image=»58521″ img_size=»full»][/vc_column][/vc_row] \n
URL:https://www.godoycruz.sisargentina.com/evento/xx-edicion-musica-clasica-los-caminos-del-vino-2019-4/
ATTACH;FMTTYPE=image/jpeg:https://www.godoycruz.sisargentina.com/wp-content/uploads/2019/04/flyer-MCCV-18-arizu.jpg
END:VEVENT
END:VCALENDAR