BEGIN:VCALENDAR
VERSION:2.0
PRODID:-//Godoy Cruz - ECPv4.5.8.1//NONSGML v1.0//EN
CALSCALE:GREGORIAN
METHOD:PUBLISH
X-WR-CALNAME:Godoy Cruz
X-ORIGINAL-URL:https://www.godoycruz.sisargentina.com
X-WR-CALDESC:Events for Godoy Cruz
BEGIN:VEVENT
DTSTART;TZID=UTC-3:20190419T190000
DTEND;TZID=UTC-3:20190419T190000
DTSTAMP:20260424T174929
CREATED:20190411T173016Z
LAST-MODIFIED:20190411T173016Z
UID:58497-1555700400-1555700400@www.godoycruz.sisargentina.com
SUMMARY:XX Edición de Música Clásica por los Caminos del Vino 2019
DESCRIPTION:[vc_row][vc_column][vc_column_text]Contrabando \nIntegrado por Alex Zuzuk\, Indira González Oliva\, Elisa Montenegro\, violines. Rayna Diankova\, viola. Vesselin Yanakiev\, cello. Laura Vicentela\, contrabajo. Tito Oliva\, piano.  Esteban Calderón\, bandoneón y arr. Musicales.[/vc_column_text][/vc_column][/vc_row][vc_row][vc_column][vc_single_image image=»58498″ img_size=»full»][/vc_column][/vc_row] \n
URL:https://www.godoycruz.sisargentina.com/evento/xx-edicion-musica-clasica-los-caminos-del-vino-2019-3/
ATTACH;FMTTYPE=image/jpeg:https://www.godoycruz.sisargentina.com/wp-content/uploads/2019/04/flyer-MCCV-19-cristoforo.jpg
END:VEVENT
END:VCALENDAR