BEGIN:VCALENDAR
VERSION:2.0
PRODID:-//Godoy Cruz - ECPv4.5.8.1//NONSGML v1.0//EN
CALSCALE:GREGORIAN
METHOD:PUBLISH
X-WR-CALNAME:Godoy Cruz
X-ORIGINAL-URL:https://www.godoycruz.sisargentina.com
X-WR-CALDESC:Events for Godoy Cruz
BEGIN:VEVENT
DTSTART;TZID=UTC-3:20190408T000000
DTEND;TZID=UTC-3:20190408T000000
DTSTAMP:20260424T192043
CREATED:20190325T150715Z
LAST-MODIFIED:20190325T152126Z
UID:58072-1554681600-1554681600@www.godoycruz.sisargentina.com
SUMMARY:XVII Encuentro Internacional de Narradores de Godoy Cruz
DESCRIPTION:[vc_row][vc_column][vc_column_text]“El mundo en los relatos de nuestros abuelos”. \nDedicado al poeta Armando Tejada Gómez\, a 90 años de su natalicio. \nArtistas invitados de: Colombia\, España\, Francia\, Bolivia\, Brasil y Argentina. \nActividades: narraciones itinerantes\, Cuentos en el bondi. \nFunciones: escuelas\, hospitales\, penitenciarías\, la Biblioteca+ Mediateca Municipal Manuel Belgrano (Tomba 54) y la Cantina de Andes Talleres (Castellani y Belgrano).[/vc_column_text][/vc_column][/vc_row][vc_row][vc_column][vc_single_image image=»58073″ img_size=»full»][/vc_column][/vc_row] \n
URL:https://www.godoycruz.sisargentina.com/evento/xvii-encuentro-internacional-narradores-godoy-cruz-2/
ATTACH;FMTTYPE=image/jpeg:https://www.godoycruz.sisargentina.com/wp-content/uploads/2019/03/IMG-20190321-WA0008.jpg
END:VEVENT
END:VCALENDAR