BEGIN:VCALENDAR
VERSION:2.0
PRODID:-//Godoy Cruz - ECPv4.5.8.1//NONSGML v1.0//EN
CALSCALE:GREGORIAN
METHOD:PUBLISH
X-WR-CALNAME:Godoy Cruz
X-ORIGINAL-URL:https://www.godoycruz.sisargentina.com
X-WR-CALDESC:Events for Godoy Cruz
BEGIN:VEVENT
DTSTART;TZID=UTC-3:20230826T213000
DTEND;TZID=UTC-3:20230826T213000
DTSTAMP:20260421T033040
CREATED:20230825T134306Z
LAST-MODIFIED:20230825T134306Z
UID:102877-1693085400-1693085400@www.godoycruz.sisargentina.com
SUMMARY:XI Godoy Cruz Canta
DESCRIPTION:[vc_row][vc_column][vc_column_text]Llega una nueva edición del histórico encuentro que reúne a diferentes coros de la provincia. \nArtistas: \nCoro Cantapueblo. Municipalidad de Godoy Cruz. Directora: Nancy Ciccioli. \nCoro Armonia. Director: Joaquín Martínez Dávila. \nCoro de la Facultad de Ciencias Médicas. UNCuyo. Directora: Guadalupe Rizzi. \nEntrada gratuita. \n[/vc_column_text][/vc_column][/vc_row][vc_row][vc_column][vc_single_image image=»102878″ img_size=»full»][/vc_column][/vc_row] \n
URL:https://www.godoycruz.sisargentina.com/evento/xi-godoy-cruz-canta-2/
LOCATION:Tomba 54\, Godoy Cruz\, Mendoza\, 5501\, Argentina
ATTACH;FMTTYPE=image/jpeg:https://www.godoycruz.sisargentina.com/wp-content/uploads/2023/08/370780812_845727470240117_2963144517266688112_n.jpg
END:VEVENT
END:VCALENDAR