BEGIN:VCALENDAR
VERSION:2.0
PRODID:-//Godoy Cruz - ECPv4.5.8.1//NONSGML v1.0//EN
CALSCALE:GREGORIAN
METHOD:PUBLISH
X-WR-CALNAME:Godoy Cruz
X-ORIGINAL-URL:https://www.godoycruz.sisargentina.com
X-WR-CALDESC:Events for Godoy Cruz
BEGIN:VEVENT
DTSTART;TZID=UTC-3:20181207T190000
DTEND;TZID=UTC-3:20181207T190000
DTSTAMP:20260425T011840
CREATED:20181128T194816Z
LAST-MODIFIED:20181128T194816Z
UID:55305-1544209200-1544209200@www.godoycruz.sisargentina.com
SUMMARY:XI Fiesta Provincial de la Cerveza
DESCRIPTION:[vc_row][vc_column][vc_column_text]Recitales en vivo\, cervecería artesanal y patio de comidas. \nArtistas (escenario principal): Los Caligaris; La Beriso; Do acorde; Maurito and the Rufos; Lamoladora; Té con King Kong. \nParque San Vicente (Cipolletti y Mosconi).  19:00. \nEntrada general: $350 (Valor promocional hasta el 5 de diciembre). \nVenta: Boletería del Teatro Plaza (Colón 27) o vía web[/vc_column_text][/vc_column][/vc_row][vc_row][vc_column][vc_btn title=»Adquirí tu entrada» style=»flat» color=»warning» link=»url:http%3A%2F%2Fwww.entradaweb.com||target:%20_blank|»][vc_single_image image=»55306″ img_size=»full»][/vc_column][/vc_row][vc_row][vc_column][vc_gmaps link=»#E-8_JTNDaWZyYW1lJTIwc3JjJTNEJTIyaHR0cHMlM0ElMkYlMkZ3d3cuZ29vZ2xlLmNvbSUyRm1hcHMlMkZlbWJlZCUzRnBiJTNEJTIxMW0xOCUyMTFtMTIlMjExbTMlMjExZDMzNDguNjk3NDUxNTcxNjgzJTIxMmQtNjguODU1NzQ2NTg0ODEzOTclMjEzZC0zMi45MzI1OTA4ODA5MjUzMjUlMjEybTMlMjExZjAlMjEyZjAlMjEzZjAlMjEzbTIlMjExaTEwMjQlMjEyaTc2OCUyMTRmMTMuMSUyMTNtMyUyMTFtMiUyMTFzMHg5NjdlMGJkM2YxMDIzMjM1JTI1M0EweDlhODc4NmI4OTRmOTA0MjElMjEyc1BhcnF1ZSUyQlNhbiUyQlZpY2VudGUlMjE1ZTAlMjEzbTIlMjExc2VzLTQxOSUyMTJzYXIlMjE0djE1NDM0MzQxNzMwNDAlMjIlMjB3aWR0aCUzRCUyMjQwMCUyMiUyMGhlaWdodCUzRCUyMjMwMCUyMiUyMGZyYW1lYm9yZGVyJTNEJTIyMCUyMiUyMHN0eWxlJTNEJTIyYm9yZGVyJTNBMCUyMiUyMGFsbG93ZnVsbHNjcmVlbiUzRSUzQyUyRmlmcmFtZSUzRQ==»][/vc_column][/vc_row] \n
URL:https://www.godoycruz.sisargentina.com/evento/xi-fiesta-provincial-la-cerveza/
ATTACH;FMTTYPE=image/jpeg:https://www.godoycruz.sisargentina.com/wp-content/uploads/2018/11/placa-bandas-Cerveza-2018.jpg
END:VEVENT
END:VCALENDAR