BEGIN:VCALENDAR
VERSION:2.0
PRODID:-//Godoy Cruz - ECPv4.5.8.1//NONSGML v1.0//EN
CALSCALE:GREGORIAN
METHOD:PUBLISH
X-WR-CALNAME:Godoy Cruz
X-ORIGINAL-URL:https://www.godoycruz.sisargentina.com
X-WR-CALDESC:Events for Godoy Cruz
BEGIN:VEVENT
DTSTART;TZID=UTC-3:20181206T190000
DTEND;TZID=UTC-3:20181206T190000
DTSTAMP:20260425T011945
CREATED:20181128T185335Z
LAST-MODIFIED:20181128T185606Z
UID:55301-1544122800-1544122800@www.godoycruz.sisargentina.com
SUMMARY:XI Fiesta Provincial de la Cerveza
DESCRIPTION:[vc_row][vc_column][vc_column_text]Recitales en vivo\, cervecería artesanal y patio de comidas. \nArtistas (escenario principal): La 25; Carajo; Volantines; Chorinferno; Chapeca. \nParque San Vicente (Cipolletti y Mosconi).  19:00. \nEntrada general: $350 (Valor promocional hasta el 5 de diciembre). \nVenta: Boletería del Teatro Plaza (Colón 27) o vía web[/vc_column_text][/vc_column][/vc_row][vc_row][vc_column][vc_btn title=»Adquirí tu entrada» style=»flat» color=»warning» link=»url:http%3A%2F%2Fwww.entradaweb.com||target:%20_blank|»][/vc_column][/vc_row][vc_row][vc_column][vc_single_image image=»55298″ img_size=»full»][/vc_column][/vc_row][vc_row][vc_column][vc_gmaps link=»#E-8_JTNDaWZyYW1lJTIwc3JjJTNEJTIyaHR0cHMlM0ElMkYlMkZ3d3cuZ29vZ2xlLmNvbSUyRm1hcHMlMkZlbWJlZCUzRnBiJTNEJTIxMW0xOCUyMTFtMTIlMjExbTMlMjExZDMzNDguNjk3NjIyMDIxODE3NiUyMTJkLTY4Ljg1NTc0NjU4NTEwODglMjEzZC0zMi45MzI1ODYzNzg1MDYwNSUyMTJtMyUyMTFmMCUyMTJmMCUyMTNmMCUyMTNtMiUyMTFpMTAyNCUyMTJpNzY4JTIxNGYxMy4xJTIxM20zJTIxMW0yJTIxMXMweDk2N2UwYmQzZjEwMjMyMzUlMjUzQTB4OWE4Nzg2Yjg5NGY5MDQyMSUyMTJzUGFycXVlJTJCU2FuJTJCVmljZW50ZSUyMTVlMCUyMTNtMiUyMTFzZXMtNDE5JTIxMnNhciUyMTR2MTU0MzQyOTg4Mjg2MSUyMiUyMHdpZHRoJTNEJTIyNDAwJTIyJTIwaGVpZ2h0JTNEJTIyMzAwJTIyJTIwZnJhbWVib3JkZXIlM0QlMjIwJTIyJTIwc3R5bGUlM0QlMjJib3JkZXIlM0EwJTIyJTIwYWxsb3dmdWxsc2NyZWVuJTNFJTNDJTJGaWZyYW1lJTNF»][/vc_column][/vc_row] \n
URL:https://www.godoycruz.sisargentina.com/evento/xi-fiesta-provincial-la-cerveza-1/
ATTACH;FMTTYPE=image/jpeg:https://www.godoycruz.sisargentina.com/wp-content/uploads/2018/11/placa-bandas-Cerveza-2018.jpg
END:VEVENT
END:VCALENDAR