BEGIN:VCALENDAR
VERSION:2.0
PRODID:-//Godoy Cruz - ECPv4.5.8.1//NONSGML v1.0//EN
CALSCALE:GREGORIAN
METHOD:PUBLISH
X-WR-CALNAME:Godoy Cruz
X-ORIGINAL-URL:https://www.godoycruz.sisargentina.com
X-WR-CALDESC:Events for Godoy Cruz
BEGIN:VEVENT
DTSTART;TZID=UTC-3:20180405T223000
DTEND;TZID=UTC-3:20180405T223000
DTSTAMP:20260425T162710
CREATED:20180329T015723Z
LAST-MODIFIED:20180329T015723Z
UID:48014-1522967400-1522967400@www.godoycruz.sisargentina.com
SUMMARY:X Festival San Vicente Jazz
DESCRIPTION:[vc_row][vc_column][vc_column_text]Jam Session Free. Cantina del Club Andes Talleres (Belgrano 1591). \nEntrada gratuita (limitada a la capacidad de la sala)[/vc_column_text][/vc_column][/vc_row][vc_row][vc_column][vc_single_image image=»48015″ img_size=»full»][/vc_column][/vc_row][vc_row][vc_column][vc_gmaps link=»#E-8_JTNDaWZyYW1lJTIwc3JjJTNEJTIyaHR0cHMlM0ElMkYlMkZ3d3cuZ29vZ2xlLmNvbSUyRm1hcHMlMkZlbWJlZCUzRnBiJTNEJTIxMW0xOCUyMTFtMTIlMjExbTMlMjExZDMzNDkuNjQ3NzQ5NjI0MTg5JTIxMmQtNjguODQ0NzA4Mzg1MTk5NTIlMjEzZC0zMi45MDc0ODAzODA5MzI4MiUyMTJtMyUyMTFmMCUyMTJmMCUyMTNmMCUyMTNtMiUyMTFpMTAyNCUyMTJpNzY4JTIxNGYxMy4xJTIxM20zJTIxMW0yJTIxMXMweDk2N2UwOTZjM2VkNzFlYTclMjUzQTB4YWFmMDM2YzdiZTk0ZTgxYiUyMTJzQ2FudGluYSUyQlRhbGxlcmVzJTIxNWUwJTIxM20yJTIxMXNlcy00MTklMjEyc2FyJTIxNHYxNTIyMjg4NDE0Mjg4JTIyJTIwd2lkdGglM0QlMjI2MDAlMjIlMjBoZWlnaHQlM0QlMjI0NTAlMjIlMjBmcmFtZWJvcmRlciUzRCUyMjAlMjIlMjBzdHlsZSUzRCUyMmJvcmRlciUzQTAlMjIlMjBhbGxvd2Z1bGxzY3JlZW4lM0UlM0MlMkZpZnJhbWUlM0U=»][/vc_column][/vc_row] \n
URL:https://www.godoycruz.sisargentina.com/evento/x-festival-san-vicente-jazz/
ATTACH;FMTTYPE=image/jpeg:https://www.godoycruz.sisargentina.com/wp-content/uploads/2018/03/San-vicente-jazz-2018-web-2-JAM-SESSION.jpg
END:VEVENT
END:VCALENDAR