BEGIN:VCALENDAR
VERSION:2.0
PRODID:-//Godoy Cruz - ECPv4.5.8.1//NONSGML v1.0//EN
CALSCALE:GREGORIAN
METHOD:PUBLISH
X-WR-CALNAME:Godoy Cruz
X-ORIGINAL-URL:https://www.godoycruz.sisargentina.com
X-WR-CALDESC:Events for Godoy Cruz
BEGIN:VEVENT
DTSTART;TZID=UTC-3:20180406T210000
DTEND;TZID=UTC-3:20180406T210000
DTSTAMP:20260425T162741
CREATED:20180329T020242Z
LAST-MODIFIED:20180329T020242Z
UID:48020-1523048400-1523048400@www.godoycruz.sisargentina.com
SUMMARY:X Festival San Vicente Jazz
DESCRIPTION:[vc_row][vc_column][vc_column_text]Artistas: Zuin Trio + Arita Rodríguez (Arg.); Triángulo de las Bermudas (Chile) y Sizão Machado Quinteto (Brasil) \n  \n[/vc_column_text][/vc_column][/vc_row][vc_row][vc_column][vc_single_image image=»48021″ img_size=»full»][/vc_column][/vc_row] \n
URL:https://www.godoycruz.sisargentina.com/evento/x-festival-san-vicente-jazz-2/
LOCATION:Colón 27\, Godoy Cruz\, Mendoza\, 5501\, Argentina
ATTACH;FMTTYPE=image/jpeg:https://www.godoycruz.sisargentina.com/wp-content/uploads/2018/03/San-vicente-jazz-2018-web-3.jpg
END:VEVENT
END:VCALENDAR