BEGIN:VCALENDAR
VERSION:2.0
PRODID:-//Godoy Cruz - ECPv4.5.8.1//NONSGML v1.0//EN
CALSCALE:GREGORIAN
METHOD:PUBLISH
X-WR-CALNAME:Godoy Cruz
X-ORIGINAL-URL:https://www.godoycruz.sisargentina.com
X-WR-CALDESC:Events for Godoy Cruz
BEGIN:VEVENT
DTSTART;TZID=UTC-3:20210625T200000
DTEND;TZID=UTC-3:20210625T200000
DTSTAMP:20260422T215411
CREATED:20210622T160455Z
LAST-MODIFIED:20210623T140241Z
UID:78898-1624651200-1624651200@www.godoycruz.sisargentina.com
SUMMARY:Willy Tertulian y Nectar 02
DESCRIPTION:[vc_row][vc_column][vc_column_text]Concierto en vivo que reúne nuevos sonidos y fusión de géneros. \nBandas: Willy Tertulian y Nectar 02. \nEntradas en venta:\nBoletería del Teatro Plaza (Colón 27\, Godoy Cruz). Horario de atención: de lunes a viernes\, de 8:30 a 14:00h.\nVía online: https://bit.ly/EntradasWillyTertulian \nCupos limitados. Se ruega puntualidad y cumplir con el protocolo sanitario vigente.[/vc_column_text][/vc_column][/vc_row][vc_row][vc_column][vc_single_image image=»78901″ img_size=»full»][/vc_column][/vc_row] \n
URL:https://www.godoycruz.sisargentina.com/evento/willy-tertulian-nectar-03/
LOCATION:Colón 27\, Godoy Cruz\, Mendoza\, 5501\, Argentina
ATTACH;FMTTYPE=image/jpeg:https://www.godoycruz.sisargentina.com/wp-content/uploads/2021/06/Feed-1.jpg
END:VEVENT
END:VCALENDAR