BEGIN:VCALENDAR
VERSION:2.0
PRODID:-//Godoy Cruz - ECPv4.5.8.1//NONSGML v1.0//EN
CALSCALE:GREGORIAN
METHOD:PUBLISH
X-WR-CALNAME:Godoy Cruz
X-ORIGINAL-URL:https://www.godoycruz.sisargentina.com
X-WR-CALDESC:Events for Godoy Cruz
BEGIN:VEVENT
DTSTART;TZID=UTC-3:20220504T210000
DTEND;TZID=UTC-3:20220504T210000
DTSTAMP:20260422T042520
CREATED:20220504T135438Z
LAST-MODIFIED:20220504T135438Z
UID:89153-1651698000-1651698000@www.godoycruz.sisargentina.com
SUMMARY:VOCES DE UN ESPIRITU ADOLESCENTE
DESCRIPTION:[vc_row][vc_column][vc_column_text]Este 4 de mayo llega al #TeatroPlaza la obra «Voces de un espíritu adolescente» con la dirección de Daisy Micieli. \nBailarines/as: \n\nALPHA CREW\nHYDRA MEGACREW\nCYRUS CREW\nLYRA CREW\nCETUS CREW\nOCTANS MEGACREW\nProduce: Andromeda Dance School\n\n[/vc_column_text][/vc_column][/vc_row][vc_row][vc_column][vc_single_image image=»89154″ img_size=»full»][/vc_column][/vc_row] \n
URL:https://www.godoycruz.sisargentina.com/evento/voces-espiritu-adolescente/
LOCATION:Colon 27\, Godoy Cruz\, Mendoza\, Argentina
END:VEVENT
END:VCALENDAR