BEGIN:VCALENDAR
VERSION:2.0
PRODID:-//Godoy Cruz - ECPv4.5.8.1//NONSGML v1.0//EN
CALSCALE:GREGORIAN
METHOD:PUBLISH
X-WR-CALNAME:Godoy Cruz
X-ORIGINAL-URL:https://www.godoycruz.sisargentina.com
X-WR-CALDESC:Events for Godoy Cruz
BEGIN:VEVENT
DTSTART;TZID=UTC-3:20210221T210000
DTEND;TZID=UTC-3:20210221T210000
DTSTAMP:20260423T032952
CREATED:20210218T162429Z
LAST-MODIFIED:20210218T162429Z
UID:74946-1613941200-1613941200@www.godoycruz.sisargentina.com
SUMMARY:Vivaldi y su Tiempo
DESCRIPTION:[vc_row][vc_column][vc_column_text]Concierto de música de cámara. \nPrograma: Antonio Vivaldi\, Arcangelo Corelli y Alessandro Stradella. \nEntrada gratuita. Cupos limitados por protocolos. \nDirección musical: Gabriela Guembe. \nConjunto: Violetta Club. \nIntérpretes: Gabriela Guembe (viola da gamba y violoncello barroco)\, Griselda López Zalba (soprano)\, Sebastián Alcaraz (violín barroco)\, Magdalena Scattolini (violín barroco)\, José Luis Di Marco (violoncello barroco)\, Enzo Rossi (contrabajo)\, Daniel Ganum (laúd y tiorba)\, Gustavo Richter (clave).[/vc_column_text][/vc_column][/vc_row][vc_row][vc_column][vc_single_image image=»74945″ img_size=»full»][/vc_column][/vc_row] \n
URL:https://www.godoycruz.sisargentina.com/evento/vivaldi-y-su-tiempo/
ATTACH;FMTTYPE=image/jpeg:https://www.godoycruz.sisargentina.com/wp-content/uploads/2021/02/WhatsApp-Image-2021-02-17-at-10.05.41.jpeg
END:VEVENT
END:VCALENDAR