BEGIN:VCALENDAR
VERSION:2.0
PRODID:-//Godoy Cruz - ECPv4.5.8.1//NONSGML v1.0//EN
CALSCALE:GREGORIAN
METHOD:PUBLISH
X-WR-CALNAME:Godoy Cruz
X-ORIGINAL-URL:https://www.godoycruz.sisargentina.com
X-WR-CALDESC:Events for Godoy Cruz
BEGIN:VEVENT
DTSTART;TZID=UTC-3:20230218T200000
DTEND;TZID=UTC-3:20230218T200000
DTSTAMP:20260421T161714
CREATED:20230214T132518Z
LAST-MODIFIED:20230214T132518Z
UID:97561-1676750400-1676750400@www.godoycruz.sisargentina.com
SUMMARY:Vinito Club III Edición
DESCRIPTION:[vc_row][vc_column][vc_column_text]Vuelve la gran feria de vinos\, con degustaciones de diferentes bodegas\, espectáculos musicales y Foodtrucks. \nMúsica en vivo: Paula Neder y Sparkling Big Band. \nEspacio Arizu ( Av. San Martín 1515).[/vc_column_text][/vc_column][/vc_row][vc_row][vc_column][vc_single_image image=»97562″ img_size=»full»][/vc_column][/vc_row] \n
URL:https://www.godoycruz.sisargentina.com/evento/vinito-club-iii-edicion/
ATTACH;FMTTYPE=image/jpeg:https://www.godoycruz.sisargentina.com/wp-content/uploads/2023/02/327154031_1900435270333351_6029164190488669181_n.jpg
END:VEVENT
END:VCALENDAR