BEGIN:VCALENDAR
VERSION:2.0
PRODID:-//Godoy Cruz - ECPv4.5.8.1//NONSGML v1.0//EN
CALSCALE:GREGORIAN
METHOD:PUBLISH
X-WR-CALNAME:Godoy Cruz
X-ORIGINAL-URL:https://www.godoycruz.sisargentina.com
X-WR-CALDESC:Events for Godoy Cruz
BEGIN:VEVENT
DTSTART;TZID=UTC-3:20230915T210000
DTEND;TZID=UTC-3:20230915T210000
DTSTAMP:20260421T033526
CREATED:20230912T175453Z
LAST-MODIFIED:20230912T175453Z
UID:103379-1694811600-1694811600@www.godoycruz.sisargentina.com
SUMMARY:VII Festival Ventana Internacional de Artes Escénicas 2023
DESCRIPTION:[vc_row][vc_column][vc_column_text]Espectáculo: “Un viaje dentro de un viaje” (basado en la obra “Relatos Insurgentes”; de Camilo Lihue)\, de Kuranderos Música y Teatro. \nKuranderos Música y Teatro: es una agrupación poética medicinal que recorre con la música paisajes y sonidos de América Latina. \nIntegrantes: Martín Montero (Voz\, percusión\, coros); Raúl Rivero (voz\, coros\, guitarra y programaciones); Mae Palma (bajo\, voces); Juan Rústico (percusión). \nEntrada: 1000 pesos\, en el ingreso a la sala.[/vc_column_text][/vc_column][/vc_row][vc_row][vc_column][vc_single_image image=»103381″ img_size=»full»][/vc_column][/vc_row] \n
URL:https://www.godoycruz.sisargentina.com/evento/vii-festival-ventana-internacional-artes-escenicas-2023-3/
ATTACH;FMTTYPE=image/jpeg:https://www.godoycruz.sisargentina.com/wp-content/uploads/2023/09/378170361_853976972748500_5668392465123532159_n.jpg
END:VEVENT
END:VCALENDAR