BEGIN:VCALENDAR
VERSION:2.0
PRODID:-//Godoy Cruz - ECPv4.5.8.1//NONSGML v1.0//EN
CALSCALE:GREGORIAN
METHOD:PUBLISH
X-WR-CALNAME:Godoy Cruz
X-ORIGINAL-URL:https://www.godoycruz.sisargentina.com
X-WR-CALDESC:Events for Godoy Cruz
BEGIN:VEVENT
DTSTART;TZID=UTC-3:20180524T230000
DTEND;TZID=UTC-3:20180524T230000
DTSTAMP:20260425T150218
CREATED:20180518T171733Z
LAST-MODIFIED:20180518T171733Z
UID:49495-1527202800-1527202800@www.godoycruz.sisargentina.com
SUMMARY:Vigilia de la celebración del 25 de Mayo
DESCRIPTION:[vc_row][vc_column][vc_column_text]Comenzamos a palpitar la llegada del día patrio con un espectáculo musical imperdible. \nArtistas: Ballet Folklórico Municipal y Lisandro Bertín. \nJardines del Honorable Concejo Deliberante (Perito Moreno y Rivadavia).[/vc_column_text][/vc_column][/vc_row][vc_row][vc_column][vc_single_image image=»49496″ img_size=»full»][/vc_column][/vc_row][vc_row][vc_column][vc_gmaps link=»#E-8_JTNDaWZyYW1lJTIwc3JjJTNEJTIyaHR0cHMlM0ElMkYlMkZ3d3cuZ29vZ2xlLmNvbSUyRm1hcHMlMkZlbWJlZCUzRnBiJTNEJTIxMW0xOCUyMTFtMTIlMjExbTMlMjExZDMzNDguOTg3MTcxMzEzNjgxMyUyMTJkLTY4Ljg0NTYxMzk4NTE5ODk3JTIxM2QtMzIuOTI0OTM3MTgwOTI3NjM1JTIxMm0zJTIxMWYwJTIxMmYwJTIxM2YwJTIxM20yJTIxMWkxMDI0JTIxMmk3NjglMjE0ZjEzLjElMjEzbTMlMjExbTIlMjExczB4OTY3ZTA5NjI3ZjYyNDI2NSUyNTNBMHg5MmY4ZWMyNDYzMWRlOTUwJTIxMnNIb25vcmFibGUlMkJDb25jZWpvJTJCRGVsaWJlcmFudGUlMkJkZSUyQkdvZG95JTJCQ3J1eiUyMTVlMCUyMTNtMiUyMTFzZXMtNDE5JTIxMnNhciUyMTR2MTUyNjY2MzY1MTIyMyUyMiUyMHdpZHRoJTNEJTIyNDAwJTIyJTIwaGVpZ2h0JTNEJTIyMzAwJTIyJTIwZnJhbWVib3JkZXIlM0QlMjIwJTIyJTIwc3R5bGUlM0QlMjJib3JkZXIlM0EwJTIyJTIwYWxsb3dmdWxsc2NyZWVuJTNFJTNDJTJGaWZyYW1lJTNF»][/vc_column][/vc_row] \n
URL:https://www.godoycruz.sisargentina.com/evento/vigilia-la-celebracion-del-25-mayo/
ATTACH;FMTTYPE=image/jpeg:https://www.godoycruz.sisargentina.com/wp-content/uploads/2018/05/MG_9742-1.jpg
END:VEVENT
END:VCALENDAR