BEGIN:VCALENDAR
VERSION:2.0
PRODID:-//Godoy Cruz - ECPv4.5.8.1//NONSGML v1.0//EN
CALSCALE:GREGORIAN
METHOD:PUBLISH
X-WR-CALNAME:Godoy Cruz
X-ORIGINAL-URL:https://www.godoycruz.sisargentina.com
X-WR-CALDESC:Events for Godoy Cruz
BEGIN:VEVENT
DTSTART;TZID=UTC-3:20191019T173000
DTEND;TZID=UTC-3:20191019T190000
DTSTAMP:20260424T061939
CREATED:20191017T175822Z
LAST-MODIFIED:20191017T175822Z
UID:63842-1571506200-1571511600@www.godoycruz.sisargentina.com
SUMMARY:VI Festival Ventana de Artes Escénicas
DESCRIPTION:[vc_row][vc_column][vc_column_text]Parque Benegas (Av. del Trabajo y Panamericana). Entrada libre y gratuita. \n17:30. Presentación del libro “Manual y guía del teatro callejero”. Autor: Fabián Cavarozzi (El Payaso Chacovachi). \n19:00. Espectáculo: “Cuidado un payaso malo puede arruinar tu vida”. Artista: El Payaso Chacovachi (BS.AS.).[/vc_column_text][/vc_column][/vc_row][vc_row][vc_column][vc_single_image image=»63843″ img_size=»full»][/vc_column][/vc_row] \n
URL:https://www.godoycruz.sisargentina.com/evento/vi-festival-ventana-artes-escenicas/
ATTACH;FMTTYPE=image/jpeg:https://www.godoycruz.sisargentina.com/wp-content/uploads/2019/10/WhatsApp-Image-2019-10-17-at-10.32.01-1.jpeg
END:VEVENT
END:VCALENDAR