BEGIN:VCALENDAR
VERSION:2.0
PRODID:-//Godoy Cruz - ECPv4.5.8.1//NONSGML v1.0//EN
CALSCALE:GREGORIAN
METHOD:PUBLISH
X-WR-CALNAME:Godoy Cruz
X-ORIGINAL-URL:https://www.godoycruz.sisargentina.com
X-WR-CALDESC:Events for Godoy Cruz
BEGIN:VEVENT
DTSTART;TZID=UTC-3:20200216T210000
DTEND;TZID=UTC-3:20200216T210000
DTSTAMP:20260423T200419
CREATED:20200204T140728Z
LAST-MODIFIED:20200212T171042Z
UID:66365-1581886800-1581886800@www.godoycruz.sisargentina.com
SUMMARY:Verano en Godoy Cruz - Ritmos Latinos
DESCRIPTION:[vc_row][vc_column][vc_column_text]21:00. \nNoches a puro baile y música en vivo. \nArtistas: Harry Rocha\, «Ravel\, De Boleros y Demás»\, PunCuyo Batucada\, En Raíces Negras. \nParticipación especial: Sofía Leyes\, Reina Departamental de la Vendimia junto a Juan Ignacio Groba (guitarra) \nEntrada gratuita. Habrá una colecta de alimentos para refugios de mascotas de Godoy Cruz.[/vc_column_text][/vc_column][/vc_row][vc_row][vc_column][vc_single_image image=»66515″ img_size=»full»][/vc_column][/vc_row] \n
URL:https://www.godoycruz.sisargentina.com/evento/verano-godoy-cruz-ritmos-latinos-2-1/
ATTACH;FMTTYPE=image/jpeg:https://www.godoycruz.sisargentina.com/wp-content/uploads/2020/02/7verano-GC-2020GC.jpg
END:VEVENT
END:VCALENDAR