BEGIN:VCALENDAR
VERSION:2.0
PRODID:-//Godoy Cruz - ECPv4.5.8.1//NONSGML v1.0//EN
CALSCALE:GREGORIAN
METHOD:PUBLISH
X-WR-CALNAME:Godoy Cruz
X-ORIGINAL-URL:https://www.godoycruz.sisargentina.com
X-WR-CALDESC:Events for Godoy Cruz
BEGIN:VEVENT
DTSTART;TZID=UTC-3:20200215T210000
DTEND;TZID=UTC-3:20200215T210000
DTSTAMP:20260423T212917
CREATED:20200203T171556Z
LAST-MODIFIED:20200212T165925Z
UID:66348-1581800400-1581800400@www.godoycruz.sisargentina.com
SUMMARY:Verano en Godoy Cruz - Peña Folklórica
DESCRIPTION:[vc_row][vc_column][vc_column_text]21:00. \nEspectáculo de música y danza. \nArtistas: La Salamanca\, Luciana Guaquinchay\, Ballet Raíz del Alma\, La Huella. \nEntrada gratuita.[/vc_column_text][/vc_column][/vc_row][vc_row][vc_column][vc_single_image image=»66512″ img_size=»full»][/vc_column][/vc_row] \n
URL:https://www.godoycruz.sisargentina.com/evento/verano-godoy-cruz-pena-folklorica-2-1/
ATTACH;FMTTYPE=image/jpeg:https://www.godoycruz.sisargentina.com/wp-content/uploads/2020/02/15-2-PEÑAS-GC-2020GC.jpg
END:VEVENT
END:VCALENDAR