BEGIN:VCALENDAR
VERSION:2.0
PRODID:-//Godoy Cruz - ECPv4.5.8.1//NONSGML v1.0//EN
CALSCALE:GREGORIAN
METHOD:PUBLISH
X-WR-CALNAME:Godoy Cruz
X-ORIGINAL-URL:https://www.godoycruz.sisargentina.com
X-WR-CALDESC:Events for Godoy Cruz
BEGIN:VEVENT
DTSTART;TZID=UTC-3:20200214T230000
DTEND;TZID=UTC-3:20200214T230000
DTSTAMP:20260423T224342
CREATED:20200204T151322Z
LAST-MODIFIED:20200204T151322Z
UID:66386-1581721200-1581721200@www.godoycruz.sisargentina.com
SUMMARY:Verano en Godoy Cruz - Cine en Benegas
DESCRIPTION:[vc_row][vc_column][vc_column_text]Función a las 23:00. \nProyección de “Mi primera Boda”. \nEntrada gratuita (limitada a la capacidad de la sala). \n [/vc_column_text][/vc_column][/vc_row][vc_row][vc_column][vc_single_image image=»66383″ img_size=»full»][/vc_column][/vc_row] \n
URL:https://www.godoycruz.sisargentina.com/evento/verano-godoy-cruz-cine-benegas-2/
ATTACH;FMTTYPE=image/jpeg:https://www.godoycruz.sisargentina.com/wp-content/uploads/2020/02/WhatsApp-Image-2020-01-31-at-13.35.25.jpeg
END:VEVENT
END:VCALENDAR