BEGIN:VCALENDAR
VERSION:2.0
PRODID:-//Godoy Cruz - ECPv4.5.8.1//NONSGML v1.0//EN
CALSCALE:GREGORIAN
METHOD:PUBLISH
X-WR-CALNAME:Godoy Cruz
X-ORIGINAL-URL:https://www.godoycruz.sisargentina.com
X-WR-CALDESC:Events for Godoy Cruz
BEGIN:VEVENT
DTSTART;TZID=UTC-3:20200207T210000
DTEND;TZID=UTC-3:20200207T230000
DTSTAMP:20260423T225735
CREATED:20200204T145957Z
LAST-MODIFIED:20200207T163630Z
UID:66382-1581109200-1581116400@www.godoycruz.sisargentina.com
SUMMARY:Verano en Godoy Cruz - Cine en Benegas (REPROGRAMADO)
DESCRIPTION:[vc_row][vc_column][vc_column_text]Funciones a las 21:00 y 23:00. \nProyección de “9 Reinas” (21h) y “Relatos Salvajes” (23h). \nEntrada gratuita. \n[/vc_column_text][/vc_column][/vc_row][vc_row][vc_column][vc_single_image image=»66383″ img_size=»full»][/vc_column][/vc_row] \n
URL:https://www.godoycruz.sisargentina.com/evento/verano-godoy-cruz-cine-benegas-1/
ATTACH;FMTTYPE=image/jpeg:https://www.godoycruz.sisargentina.com/wp-content/uploads/2020/02/WhatsApp-Image-2020-01-31-at-13.35.25.jpeg
END:VEVENT
END:VCALENDAR