BEGIN:VCALENDAR
VERSION:2.0
PRODID:-//Godoy Cruz - ECPv4.5.8.1//NONSGML v1.0//EN
CALSCALE:GREGORIAN
METHOD:PUBLISH
X-WR-CALNAME:Godoy Cruz
X-ORIGINAL-URL:https://www.godoycruz.sisargentina.com
X-WR-CALDESC:Events for Godoy Cruz
BEGIN:VEVENT
DTSTART;TZID=UTC-3:20200207T210000
DTEND;TZID=UTC-3:20200207T210000
DTSTAMP:20260423T231017
CREATED:20200204T161610Z
LAST-MODIFIED:20200207T163412Z
UID:66395-1581109200-1581109200@www.godoycruz.sisargentina.com
SUMMARY:Verano en Godoy Cruz - Cine en Arizu (REPROGRAMADO miércoles 12)
DESCRIPTION:[vc_row][vc_column][vc_column_text]21:00. \nPelículas y opciones gastronómicas. \nProyección de “Inseparables” (versión nacional). \nEntrada gratuita (limitada a la capacidad de la sala). Retirar entradas en el Teatro Plaza\, de 9:00 a 14:00. Consultas: (261)-4133253.[/vc_column_text][/vc_column][/vc_row][vc_row][vc_column][vc_single_image image=»66396″ img_size=»full»][/vc_column][/vc_row] \n
URL:https://www.godoycruz.sisargentina.com/evento/verano-godoy-cruz-cine-arizu-1/
ATTACH;FMTTYPE=image/jpeg:https://www.godoycruz.sisargentina.com/wp-content/uploads/2020/02/WhatsApp-Image-2020-01-31-at-13.35.24.jpeg
END:VEVENT
END:VCALENDAR