BEGIN:VCALENDAR
VERSION:2.0
PRODID:-//Godoy Cruz - ECPv4.5.8.1//NONSGML v1.0//EN
CALSCALE:GREGORIAN
METHOD:PUBLISH
X-WR-CALNAME:Godoy Cruz
X-ORIGINAL-URL:https://www.godoycruz.sisargentina.com
X-WR-CALDESC:Events for Godoy Cruz
BEGIN:VEVENT
DTSTART;TZID=UTC-3:20190217T193000
DTEND;TZID=UTC-3:20190217T193000
DTSTAMP:20260424T235113
CREATED:20190124T150147Z
LAST-MODIFIED:20190124T150147Z
UID:56532-1550431800-1550431800@www.godoycruz.sisargentina.com
SUMMARY:Verano Godoy Cruz
DESCRIPTION:[vc_row][vc_column][vc_column_text]Espectáculo de títeres. \nObra: Florena y el pirata diente de lata\, del elenco Los Títeres de la Tía Tomasa. \nEntrada gratuita.[/vc_column_text][/vc_column][/vc_row][vc_row][vc_column][vc_single_image image=»56533″ img_size=»full»][/vc_column][/vc_row] \n
URL:https://www.godoycruz.sisargentina.com/evento/verano-godoy-cruz-7/
ATTACH;FMTTYPE=image/jpeg:https://www.godoycruz.sisargentina.com/wp-content/uploads/2019/01/IMG-20190115-WA0011.jpg
END:VEVENT
END:VCALENDAR