BEGIN:VCALENDAR
VERSION:2.0
PRODID:-//Godoy Cruz - ECPv4.5.8.1//NONSGML v1.0//EN
CALSCALE:GREGORIAN
METHOD:PUBLISH
X-WR-CALNAME:Godoy Cruz
X-ORIGINAL-URL:https://www.godoycruz.sisargentina.com
X-WR-CALDESC:Events for Godoy Cruz
BEGIN:VEVENT
DTSTART;TZID=UTC-3:20190216T210000
DTEND;TZID=UTC-3:20190216T210000
DTSTAMP:20260424T222210
CREATED:20190129T142704Z
LAST-MODIFIED:20190129T142704Z
UID:56693-1550350800-1550350800@www.godoycruz.sisargentina.com
SUMMARY:Verano Godoy Cruz
DESCRIPTION:[vc_row][vc_column][vc_column_text]Cine en el Domo del Museo. Películas para disfrutar en verano. \nEntrada gratuita. \nFunción: \nsábado 16 de febrero: 21:00 – “Perdida”. Género: policial. \n [/vc_column_text][/vc_column][/vc_row][vc_row][vc_column][vc_single_image image=»56689″ img_size=»full»][/vc_column][/vc_row] \n
URL:https://www.godoycruz.sisargentina.com/evento/verano-godoy-cruz-21/
ATTACH;FMTTYPE=image/jpeg:https://www.godoycruz.sisargentina.com/wp-content/uploads/2019/01/IMG-20190118-WA0013.jpg
END:VEVENT
END:VCALENDAR