BEGIN:VCALENDAR
VERSION:2.0
PRODID:-//Godoy Cruz - ECPv4.5.8.1//NONSGML v1.0//EN
CALSCALE:GREGORIAN
METHOD:PUBLISH
X-WR-CALNAME:Godoy Cruz
X-ORIGINAL-URL:https://www.godoycruz.sisargentina.com
X-WR-CALDESC:Events for Godoy Cruz
BEGIN:VEVENT
DTSTART;TZID=UTC-3:20190208T190000
DTEND;TZID=UTC-3:20190208T190000
DTSTAMP:20260424T222326
CREATED:20190128T170542Z
LAST-MODIFIED:20190128T170542Z
UID:56672-1549652400-1549652400@www.godoycruz.sisargentina.com
SUMMARY:Verano Godoy Cruz
DESCRIPTION:[vc_row][vc_column][vc_column_text]Cine en el Domo del Museo. Películas para disfrutar en verano. \nEntrada gratuita. \nFunciones: \nviernes 8 de febrero: 19:00 – “Un jefe en pañales”. Género: animación. \n21:00 – “El negociador”. Género: acción.[/vc_column_text][/vc_column][/vc_row][vc_row][vc_column][vc_single_image image=»56673″ img_size=»full»][/vc_column][/vc_row] \n
URL:https://www.godoycruz.sisargentina.com/evento/verano-godoy-cruz-18/
ATTACH;FMTTYPE=image/jpeg:https://www.godoycruz.sisargentina.com/wp-content/uploads/2019/01/IMG-20190118-WA0014.jpg
END:VEVENT
END:VCALENDAR