BEGIN:VCALENDAR
VERSION:2.0
PRODID:-//Godoy Cruz - ECPv4.5.8.1//NONSGML v1.0//EN
CALSCALE:GREGORIAN
METHOD:PUBLISH
X-WR-CALNAME:Godoy Cruz
X-ORIGINAL-URL:https://www.godoycruz.sisargentina.com
X-WR-CALDESC:Events for Godoy Cruz
BEGIN:VEVENT
DTSTART;TZID=UTC-3:20210116T213000
DTEND;TZID=UTC-3:20210116T213000
DTSTAMP:20260423T075908
CREATED:20210111T151832Z
LAST-MODIFIED:20210111T151832Z
UID:73846-1610832600-1610832600@www.godoycruz.sisargentina.com
SUMMARY:"Verano Buenardo". Terraza Cinema
DESCRIPTION:[vc_row][vc_column][vc_column_text]“Verano Buenardo”. \nTerraza Cinema. \nPelícula: “Piranha” (Piraña). Dir: Joe Dante. \nCupos limitados. Entrada gratuita.[/vc_column_text][/vc_column][/vc_row][vc_row][vc_column][vc_single_image image=»73847″ img_size=»full»][/vc_column][/vc_row] \n
URL:https://www.godoycruz.sisargentina.com/evento/verano-buenardo-terraza-cinema/
LOCATION:Tomba 54\, Godoy Cruz\, Mendoza\, 5501\, Argentina
ATTACH;FMTTYPE=image/png:https://www.godoycruz.sisargentina.com/wp-content/uploads/2021/01/Terraza-Cinama.png
END:VEVENT
END:VCALENDAR