BEGIN:VCALENDAR
VERSION:2.0
PRODID:-//Godoy Cruz - ECPv4.5.8.1//NONSGML v1.0//EN
CALSCALE:GREGORIAN
METHOD:PUBLISH
X-WR-CALNAME:Godoy Cruz
X-ORIGINAL-URL:https://www.godoycruz.sisargentina.com
X-WR-CALDESC:Events for Godoy Cruz
BEGIN:VEVENT
DTSTART;TZID=UTC-3:20210206T210000
DTEND;TZID=UTC-3:20210206T210000
DTSTAMP:20260423T080021
CREATED:20210203T170519Z
LAST-MODIFIED:20210203T170519Z
UID:74471-1612645200-1612645200@www.godoycruz.sisargentina.com
SUMMARY:“Verano Buenardo”. Parque Margarita Malharro.
DESCRIPTION:[vc_row][vc_column][vc_column_text]“Verano Buenardo”. \nParque Margarita Malharro de Torres. \nArtistas: Silvana Cascardo (Salsa); Busse – Parra – Guajardo; Ricardo Dimaria. \nCupos limitados. Entrada gratuita.[/vc_column_text][/vc_column][/vc_row][vc_row][vc_column][vc_single_image image=»74470″ img_size=»full»][/vc_column][/vc_row] \n
URL:https://www.godoycruz.sisargentina.com/evento/verano-buenardo-parque-margarita-malharro/
ATTACH;FMTTYPE=image/jpeg:https://www.godoycruz.sisargentina.com/wp-content/uploads/2021/02/WhatsApp-Image-2021-02-02-at-17.33.54-1.jpeg
END:VEVENT
END:VCALENDAR