BEGIN:VCALENDAR
VERSION:2.0
PRODID:-//Godoy Cruz - ECPv4.5.8.1//NONSGML v1.0//EN
CALSCALE:GREGORIAN
METHOD:PUBLISH
X-WR-CALNAME:Godoy Cruz
X-ORIGINAL-URL:https://www.godoycruz.sisargentina.com
X-WR-CALDESC:Events for Godoy Cruz
BEGIN:VEVENT
DTSTART;TZID=UTC-3:20220209T203000
DTEND;TZID=UTC-3:20220209T203000
DTSTAMP:20260422T093526
CREATED:20220114T161435Z
LAST-MODIFIED:20220114T161435Z
UID:85700-1644438600-1644438600@www.godoycruz.sisargentina.com
SUMMARY:Veraneando Ando: Letra y Música
DESCRIPTION:[vc_row][vc_column][vc_column_text]Escritores y músicos se reúnen en espectáculos gratuitos para disfrutar en vacaciones. \nLa propuesta está enmarcada dentro del programa cultural «Leer Hace Bien». \n“Poesía musitada en Mi Mayor”. Con Eugenia Simionato + Melisa Budini. \nEntrada gratuita. \nSe ruega puntualidad y cumplir con el protocolo sanitario vigente.[/vc_column_text][/vc_column][/vc_row][vc_row][vc_column][vc_single_image image=»85701″ img_size=»full»][/vc_column][/vc_row] \n
URL:https://www.godoycruz.sisargentina.com/evento/veraneando-ando-letra-musica-3/
ATTACH;FMTTYPE=image/jpeg:https://www.godoycruz.sisargentina.com/wp-content/uploads/2022/01/271755653_1749579905227579_6416785471633307061_n.jpg
END:VEVENT
END:VCALENDAR