BEGIN:VCALENDAR
VERSION:2.0
PRODID:-//Godoy Cruz - ECPv4.5.8.1//NONSGML v1.0//EN
CALSCALE:GREGORIAN
METHOD:PUBLISH
X-WR-CALNAME:Godoy Cruz
X-ORIGINAL-URL:https://www.godoycruz.sisargentina.com
X-WR-CALDESC:Events for Godoy Cruz
BEGIN:VEVENT
DTSTART;TZID=UTC-3:20220126T203000
DTEND;TZID=UTC-3:20220126T203000
DTSTAMP:20260422T111112
CREATED:20220114T154904Z
LAST-MODIFIED:20220126T135844Z
UID:85689-1643229000-1643229000@www.godoycruz.sisargentina.com
SUMMARY:Veraneando Ando: Letra y Música (reprogramado por mal tiempo)
DESCRIPTION:[vc_row][vc_column][vc_column_text]Escritores y músicos se reúnen en espectáculos gratuitos para disfrutar en vacaciones. \nLa propuesta está enmarcada dentro del programa cultural «Leer Hace Bien». \n“La nochecita que soñamos un verano”. Con Fabián Sevilla + Daniela Trovati. \nEntrada gratuita. \nSe ruega puntualidad y cumplir con el protocolo sanitario vigente.[/vc_column_text][/vc_column][/vc_row][vc_row][vc_column][vc_single_image image=»85947″ img_size=»full»][/vc_column][/vc_row] \n
URL:https://www.godoycruz.sisargentina.com/evento/veraneando-ando-letra-musica-1/
ATTACH;FMTTYPE=image/jpeg:https://www.godoycruz.sisargentina.com/wp-content/uploads/2022/01/272569910_2214513422038257_5329600982382963980_n.jpg
END:VEVENT
END:VCALENDAR