BEGIN:VCALENDAR
VERSION:2.0
PRODID:-//Godoy Cruz - ECPv4.5.8.1//NONSGML v1.0//EN
CALSCALE:GREGORIAN
METHOD:PUBLISH
X-WR-CALNAME:Godoy Cruz
X-ORIGINAL-URL:https://www.godoycruz.sisargentina.com
X-WR-CALDESC:Events for Godoy Cruz
BEGIN:VEVENT
DTSTART;TZID=UTC-3:20220218T203000
DTEND;TZID=UTC-3:20220218T203000
DTSTAMP:20260422T093408
CREATED:20220201T165117Z
LAST-MODIFIED:20220201T165117Z
UID:86141-1645216200-1645216200@www.godoycruz.sisargentina.com
SUMMARY:Veraneando Ando: El Día del Dragón
DESCRIPTION:[vc_row][vc_column][vc_column_text]Ciclo infantil en el marco del programa cultural «Leer Hace Bien». \nHabrá música\, lectura\, baile y artes escénicas para los más pequeños. \nArtistas: Compañía Dragón Dorado (Natacha Ortega y Mauricio Gelardi). \nEntrada gratuita y cupos limitados. \nSe ruega puntualidad y cumplir con el protocolo sanitario vigente.[/vc_column_text][/vc_column][/vc_row][vc_row][vc_column][vc_single_image image=»86131″ img_size=»full»][/vc_column][/vc_row] \n
URL:https://www.godoycruz.sisargentina.com/evento/veraneando-ando-dia-del-dragon-3/
ATTACH;FMTTYPE=image/jpeg:https://www.godoycruz.sisargentina.com/wp-content/uploads/2022/02/WhatsApp-Image-2022-01-31-at-10.29.42.jpeg
END:VEVENT
END:VCALENDAR