BEGIN:VCALENDAR
VERSION:2.0
PRODID:-//Godoy Cruz - ECPv4.5.8.1//NONSGML v1.0//EN
CALSCALE:GREGORIAN
METHOD:PUBLISH
X-WR-CALNAME:Godoy Cruz
X-ORIGINAL-URL:https://www.godoycruz.sisargentina.com
X-WR-CALDESC:Events for Godoy Cruz
BEGIN:VEVENT
DTSTART;TZID=UTC-3:20220116T183000
DTEND;TZID=UTC-3:20220116T183000
DTSTAMP:20260422T111316
CREATED:20220110T162531Z
LAST-MODIFIED:20220110T162531Z
UID:85600-1642357800-1642357800@www.godoycruz.sisargentina.com
SUMMARY:Veraneando Ando: Circuito Cultural Barrial
DESCRIPTION:[vc_row][vc_column][vc_column_text]Espectáculos para toda la familia\, en distintos barrios de Godoy Cruz. \nFunción: “Mi vecino el topo”\, de Elenco La Oruga. \nGlobología\, con el Payaso Pipichan. \nPlaza de los Niños. Pte. Illia y Los Nihuiles. \nEntrada gratuita (por orden de llegada). \nSe ruega puntualidad y cumplir con el protocolo sanitario vigente.[/vc_column_text][/vc_column][/vc_row][vc_row][vc_column][vc_single_image image=»85601″ img_size=»full»][/vc_column][/vc_row] \n
URL:https://www.godoycruz.sisargentina.com/evento/veraneando-ando-circuito-cultural-barrial-2/
ATTACH;FMTTYPE=image/jpeg:https://www.godoycruz.sisargentina.com/wp-content/uploads/2022/01/WhatsApp-Image-2022-01-07-at-11.18.55-1.jpeg
END:VEVENT
END:VCALENDAR