BEGIN:VCALENDAR
VERSION:2.0
PRODID:-//Godoy Cruz - ECPv4.5.8.1//NONSGML v1.0//EN
CALSCALE:GREGORIAN
METHOD:PUBLISH
X-WR-CALNAME:Godoy Cruz
X-ORIGINAL-URL:https://www.godoycruz.sisargentina.com
X-WR-CALDESC:Events for Godoy Cruz
BEGIN:VEVENT
DTSTART;TZID=UTC-3:20220220T213000
DTEND;TZID=UTC-3:20220220T213000
DTSTAMP:20260422T111030
CREATED:20220112T161213Z
LAST-MODIFIED:20220112T161213Z
UID:85658-1645392600-1645392600@www.godoycruz.sisargentina.com
SUMMARY:Veraneando Ando: Cine Placero
DESCRIPTION:[vc_row][vc_column][vc_column_text]Grandes películas llegan al verano de Godoy Cruz \nFilm: “Una mente brillante” (A beautiful mind). \n2001. 130 min. Drama biográfico. \nDirección: Ron Howard \nEntrada gratuita. \nSe ruega puntualidad y cumplir con el protocolo sanitario vigente.[/vc_column_text][/vc_column][/vc_row][vc_row][vc_column][vc_single_image image=»85647″ img_size=»full»][/vc_column][/vc_row] \n
URL:https://www.godoycruz.sisargentina.com/evento/veraneando-ando-cine-placero-4/
ATTACH;FMTTYPE=image/jpeg:https://www.godoycruz.sisargentina.com/wp-content/uploads/2022/01/WhatsApp-Image-2022-01-10-at-16.40.45.jpeg
END:VEVENT
END:VCALENDAR