BEGIN:VCALENDAR
VERSION:2.0
PRODID:-//Godoy Cruz - ECPv4.5.8.1//NONSGML v1.0//EN
CALSCALE:GREGORIAN
METHOD:PUBLISH
X-WR-CALNAME:Godoy Cruz
X-ORIGINAL-URL:https://www.godoycruz.sisargentina.com
X-WR-CALDESC:Events for Godoy Cruz
BEGIN:VEVENT
DTSTART;TZID=UTC-3:20220122T213000
DTEND;TZID=UTC-3:20220122T213000
DTSTAMP:20260422T110849
CREATED:20220118T170402Z
LAST-MODIFIED:20220118T170402Z
UID:85771-1642887000-1642887000@www.godoycruz.sisargentina.com
SUMMARY:Veraneando Ando: Arizu Jazz
DESCRIPTION:[vc_row][vc_column][vc_column_text]El Jazz se apodera del Espacio Arizu con este nuevo festival. \nGrandes exponentes del género sonarán fuerte en el escenario. \nArtistas: Futurella + West Jazz Band. \nEntrada gratuita (cupo 250 localidades). \nSe ruega puntualidad y cumplir con el protocolo sanitario vigente.[/vc_column_text][/vc_column][/vc_row][vc_row][vc_column][vc_single_image image=»85772″ img_size=»full»][/vc_column][/vc_row] \n
URL:https://www.godoycruz.sisargentina.com/evento/veraneando-ando-arizu-jazz-2/
ATTACH;FMTTYPE=image/jpeg:https://www.godoycruz.sisargentina.com/wp-content/uploads/2022/01/271940673_2207788719377394_5968521592654394838_n.jpg
END:VEVENT
END:VCALENDAR