BEGIN:VCALENDAR
VERSION:2.0
PRODID:-//Godoy Cruz - ECPv4.5.8.1//NONSGML v1.0//EN
CALSCALE:GREGORIAN
METHOD:PUBLISH
X-WR-CALNAME:Godoy Cruz
X-ORIGINAL-URL:https://www.godoycruz.sisargentina.com
X-WR-CALDESC:Events for Godoy Cruz
BEGIN:VEVENT
DTSTART;TZID=UTC-3:20220129T213000
DTEND;TZID=UTC-3:20220129T213000
DTSTAMP:20260422T110911
CREATED:20220124T164142Z
LAST-MODIFIED:20220124T175056Z
UID:85878-1643491800-1643491800@www.godoycruz.sisargentina.com
SUMMARY:Veraneando Ando: Arizu Blues
DESCRIPTION:[vc_row][vc_column][vc_column_text]Festival que reúne a importantes exponentes del Blues en Mendoza. \nHabrá música de grandes bandas y Foodtrucks. \nArtistas: Triple Trouble Mendoza + Nico Cabrera Blues Band. \nEntrada gratuita (cupo limitado de 250 localidades). \nSe ruega puntualidad y cumplir con el protocolo sanitario vigente.[/vc_column_text][/vc_column][/vc_row][vc_row][vc_column][vc_single_image image=»85879″ img_size=»full»][/vc_column][/vc_row] \n
URL:https://www.godoycruz.sisargentina.com/evento/veraneando-ando-arizu-blues1/
ATTACH;FMTTYPE=image/jpeg:https://www.godoycruz.sisargentina.com/wp-content/uploads/2022/01/WhatsApp-Image-2022-01-24-at-11.05.32.jpeg
END:VEVENT
END:VCALENDAR