BEGIN:VCALENDAR
VERSION:2.0
PRODID:-//Godoy Cruz - ECPv4.5.8.1//NONSGML v1.0//EN
CALSCALE:GREGORIAN
METHOD:PUBLISH
X-WR-CALNAME:Godoy Cruz
X-ORIGINAL-URL:https://www.godoycruz.sisargentina.com
X-WR-CALDESC:Events for Godoy Cruz
BEGIN:VEVENT
DTSTART;TZID=UTC-3:20171118T200000
DTEND;TZID=UTC-3:20171118T200000
DTSTAMP:20260425T224041
CREATED:20171107T151338Z
LAST-MODIFIED:20171107T151338Z
UID:43882-1511035200-1511035200@www.godoycruz.sisargentina.com
SUMMARY:Vendimias Distritales: VILLA HIPÓDROMO
DESCRIPTION:[vc_row][vc_column][vc_column_text]Feria de artesanos y diseñadores. Espectáculo artístico y coronación. \nParque Sargento Cabral (Armani y 1º de Mayo).[/vc_column_text][/vc_column][/vc_row][vc_row][vc_column][vc_single_image image=»43884″ img_size=»full»][/vc_column][/vc_row][vc_row][vc_column][vc_gmaps link=»#E-8_JTNDaWZyYW1lJTIwc3JjJTNEJTIyaHR0cHMlM0ElMkYlMkZ3d3cuZ29vZ2xlLmNvbSUyRm1hcHMlMkZlbWJlZCUzRnBiJTNEJTIxMW0xOCUyMTFtMTIlMjExbTMlMjExZDMzNDkuMzczNDI2ODM5NTYzOCUyMTJkLTY4Ljg2MTAyODA4NTE5OTMlMjEzZC0zMi45MTQ3MzA3ODA5MzA2MjYlMjEybTMlMjExZjAlMjEyZjAlMjEzZjAlMjEzbTIlMjExaTEwMjQlMjEyaTc2OCUyMTRmMTMuMSUyMTNtMyUyMTFtMiUyMTFzMHg5NjdlMDk5ZDYzMjRlY2IzJTI1M0EweDU2NTIwZGY3OTVjMTNlZGQlMjEyczElMkJkZSUyQk1heW8lMkIlMjUyNiUyQkFybWFuaSUyNTJDJTJCR29kb3klMkJDcnV6JTI1MkMlMkJNZW5kb3phJTIxNWUwJTIxM20yJTIxMXNlcy00MTklMjEyc2FyJTIxNHYxNTEwMDY3MTkyNjUzJTIyJTIwd2lkdGglM0QlMjI2MDAlMjIlMjBoZWlnaHQlM0QlMjI0NTAlMjIlMjBmcmFtZWJvcmRlciUzRCUyMjAlMjIlMjBzdHlsZSUzRCUyMmJvcmRlciUzQTAlMjIlMjBhbGxvd2Z1bGxzY3JlZW4lM0UlM0MlMkZpZnJhbWUlM0U=»][/vc_column][/vc_row] \n
URL:https://www.godoycruz.sisargentina.com/evento/vendimias-distritales-villa-hipodromo/
ATTACH;FMTTYPE=image/jpeg:https://www.godoycruz.sisargentina.com/wp-content/uploads/2017/11/web-VENDIMIAS-DISTRITALES-VILLA-HIPODROMO-9.jpg
END:VEVENT
END:VCALENDAR