BEGIN:VCALENDAR
VERSION:2.0
PRODID:-//Godoy Cruz - ECPv4.5.8.1//NONSGML v1.0//EN
CALSCALE:GREGORIAN
METHOD:PUBLISH
X-WR-CALNAME:Godoy Cruz
X-ORIGINAL-URL:https://www.godoycruz.sisargentina.com
X-WR-CALDESC:Events for Godoy Cruz
BEGIN:VEVENT
DTSTART;TZID=UTC-3:20171112T200000
DTEND;TZID=UTC-3:20171112T200000
DTSTAMP:20260425T223818
CREATED:20171106T164811Z
LAST-MODIFIED:20171106T164811Z
UID:43833-1510516800-1510516800@www.godoycruz.sisargentina.com
SUMMARY:Vendimias Distritales: PRESIDENTE SARMIENTO
DESCRIPTION:[vc_row][vc_column][vc_column_text]Espectáculo artístico y coronación. \nPolideportivo Nicolino Locche (Chapadmalal y Punta Mogotes).[/vc_column_text][/vc_column][/vc_row][vc_row][vc_column][vc_single_image image=»43834″ img_size=»full»][vc_gmaps link=»#E-8_JTNDaWZyYW1lJTIwc3JjJTNEJTIyaHR0cHMlM0ElMkYlMkZ3d3cuZ29vZ2xlLmNvbSUyRm1hcHMlMkZlbWJlZCUzRnBiJTNEJTIxMW0xOCUyMTFtMTIlMjExbTMlMjExZDE2NzQuMzI0NzkxNTI3OTM2MiUyMTJkLTY4Ljg3NDY0MTQ2NjYzNjI4JTIxM2QtMzIuOTMzODU1MzAwMjQ3MDMlMjEybTMlMjExZjAlMjEyZjAlMjEzZjAlMjEzbTIlMjExaTEwMjQlMjEyaTc2OCUyMTRmMTMuMSUyMTNtMyUyMTFtMiUyMTFzMHg5NjdlMGEyNmViMjRmMWQxJTI1M0EweDc5MjhiMDFkZjg4OGZjMGQlMjEyc1BvbGlkZXBvcnRpdm8lMkJNdW5pY2lwYWwlMkJOJTI1QzIlMjVCMCUyQjclMkJOaWNvbGlubyUyQkxvY2NoZSUyMTVlMCUyMTNtMiUyMTFzZXMtNDE5JTIxMnNhciUyMTR2MTUwOTk4NjYyMzU3MCUyMiUyMHdpZHRoJTNEJTIyNjAwJTIyJTIwaGVpZ2h0JTNEJTIyNDUwJTIyJTIwZnJhbWVib3JkZXIlM0QlMjIwJTIyJTIwc3R5bGUlM0QlMjJib3JkZXIlM0EwJTIyJTIwYWxsb3dmdWxsc2NyZWVuJTNFJTNDJTJGaWZyYW1lJTNF»][/vc_column][/vc_row][vc_row][vc_column][/vc_column][/vc_row] \n
URL:https://www.godoycruz.sisargentina.com/evento/vendimias-distritales-presidente-sarmiento/
ATTACH;FMTTYPE=image/jpeg:https://www.godoycruz.sisargentina.com/wp-content/uploads/2017/11/web-VENDIMIAS-DISTRITALES-PTE-SARMIENTO-6.jpg
END:VEVENT
END:VCALENDAR