BEGIN:VCALENDAR
VERSION:2.0
PRODID:-//Godoy Cruz - ECPv4.5.8.1//NONSGML v1.0//EN
CALSCALE:GREGORIAN
METHOD:PUBLISH
X-WR-CALNAME:Godoy Cruz
X-ORIGINAL-URL:https://www.godoycruz.sisargentina.com
X-WR-CALDESC:Events for Godoy Cruz
BEGIN:VEVENT
DTSTART;TZID=UTC-3:20181125T200000
DTEND;TZID=UTC-3:20181125T200000
DTSTAMP:20260425T041119
CREATED:20181101T185446Z
LAST-MODIFIED:20181101T185701Z
UID:54550-1543176000-1543176000@www.godoycruz.sisargentina.com
SUMMARY:Vendimias Distritales de Godoy Cruz
DESCRIPTION:[vc_row][vc_column][vc_column_text]PRESIDENTE SARMIENTO. \n20.00. La Gran Manzana\, Bº F.O.E.C.Y.T. (Salvador Civit y Punilla)[/vc_column_text][/vc_column][/vc_row][vc_row][vc_column][vc_single_image image=»54551″ img_size=»full»][/vc_column][/vc_row] \n
URL:https://www.godoycruz.sisargentina.com/evento/vendimias-distritales-godoy-cruz-8/
ATTACH;FMTTYPE=image/jpeg:https://www.godoycruz.sisargentina.com/wp-content/uploads/2018/11/Flyer_vendimia_distritales-Sarmiento.jpg
END:VEVENT
END:VCALENDAR