BEGIN:VCALENDAR
VERSION:2.0
PRODID:-//Godoy Cruz - ECPv4.5.8.1//NONSGML v1.0//EN
CALSCALE:GREGORIAN
METHOD:PUBLISH
X-WR-CALNAME:Godoy Cruz
X-ORIGINAL-URL:https://www.godoycruz.sisargentina.com
X-WR-CALDESC:Events for Godoy Cruz
BEGIN:VEVENT
DTSTART;TZID=UTC-3:20181115T200000
DTEND;TZID=UTC-3:20181115T200000
DTSTAMP:20260425T041022
CREATED:20181112T170922Z
LAST-MODIFIED:20181112T170922Z
UID:54850-1542312000-1542312000@www.godoycruz.sisargentina.com
SUMMARY:Vendimias Distritales de Godoy Cruz
DESCRIPTION:[vc_row][vc_column][vc_column_text]VILLA MARINI. \n20:00. Parque San Vicente (Avenida Ingeniero Cipolleti).[/vc_column_text][/vc_column][/vc_row][vc_row][vc_column][vc_single_image image=»54851″ img_size=»full»][/vc_column][/vc_row] \n
URL:https://www.godoycruz.sisargentina.com/evento/vendimias-distritales-godoy-cruz-3/
ATTACH;FMTTYPE=image/jpeg:https://www.godoycruz.sisargentina.com/wp-content/uploads/2018/11/WhatsApp-Image-2018-11-12-at-13.19.14.jpeg
END:VEVENT
END:VCALENDAR