BEGIN:VCALENDAR
VERSION:2.0
PRODID:-//Godoy Cruz - ECPv4.5.8.1//NONSGML v1.0//EN
CALSCALE:GREGORIAN
METHOD:PUBLISH
X-WR-CALNAME:Godoy Cruz
X-ORIGINAL-URL:https://www.godoycruz.sisargentina.com
X-WR-CALDESC:Events for Godoy Cruz
BEGIN:VEVENT
DTSTART;TZID=UTC-3:20231104T210000
DTEND;TZID=UTC-3:20231104T210000
DTSTAMP:20260420T220700
CREATED:20231024T180412Z
LAST-MODIFIED:20231024T180412Z
UID:104561-1699131600-1699131600@www.godoycruz.sisargentina.com
SUMMARY:Vendimias Distritales de Godoy Cruz
DESCRIPTION:[vc_row][vc_column][vc_column_text]Acto central\, elección y coronación de la nueva reina distrital. \nEntrada gratuita. \nSan Francisco del Monte. Título: “Mi Godoy Cruz de siempre”. \nDirección: Virginia Paes y Héctor Gomina.[/vc_column_text][/vc_column][/vc_row][vc_row][vc_column][vc_single_image image=»104562″ img_size=»full»][/vc_column][/vc_row] \n
URL:https://www.godoycruz.sisargentina.com/evento/vendimias-distritales-godoy-cruz-24/
ATTACH;FMTTYPE=image/jpeg:https://www.godoycruz.sisargentina.com/wp-content/uploads/2023/10/394271851_651924923793087_4178968948874881593_n.jpg
END:VEVENT
END:VCALENDAR