BEGIN:VCALENDAR
VERSION:2.0
PRODID:-//Godoy Cruz - ECPv4.5.8.1//NONSGML v1.0//EN
CALSCALE:GREGORIAN
METHOD:PUBLISH
X-WR-CALNAME:Godoy Cruz
X-ORIGINAL-URL:https://www.godoycruz.sisargentina.com
X-WR-CALDESC:Events for Godoy Cruz
BEGIN:VEVENT
DTSTART;TZID=UTC-3:20231102T210000
DTEND;TZID=UTC-3:20231102T210000
DTSTAMP:20260420T202745
CREATED:20231024T165716Z
LAST-MODIFIED:20231024T165716Z
UID:104551-1698958800-1698958800@www.godoycruz.sisargentina.com
SUMMARY:Vendimias Distritales de Godoy Cruz
DESCRIPTION:[vc_row][vc_column][vc_column_text]Acto central\, elección y coronación de la nueva reina distrital. \nEntrada gratuita. \nLas Tortugas. Título: “Mi origen”. \nDirección: María Laura Saez.[/vc_column_text][/vc_column][/vc_row][vc_row][vc_column][vc_single_image image=»104552″ img_size=»full»][/vc_column][/vc_row] \n
URL:https://www.godoycruz.sisargentina.com/evento/vendimias-distritales-godoy-cruz-22/
ATTACH;FMTTYPE=image/jpeg:https://www.godoycruz.sisargentina.com/wp-content/uploads/2023/10/393804314_651924860459760_5676693715298875997_n.jpg
END:VEVENT
END:VCALENDAR