BEGIN:VCALENDAR
VERSION:2.0
PRODID:-//Godoy Cruz - ECPv4.5.8.1//NONSGML v1.0//EN
CALSCALE:GREGORIAN
METHOD:PUBLISH
X-WR-CALNAME:Godoy Cruz
X-ORIGINAL-URL:https://www.godoycruz.sisargentina.com
X-WR-CALDESC:Events for Godoy Cruz
BEGIN:VEVENT
DTSTART;TZID=UTC-3:20231111T210000
DTEND;TZID=UTC-3:20231111T210000
DTSTAMP:20260420T220621
CREATED:20231107T154840Z
LAST-MODIFIED:20231107T154840Z
UID:104984-1699736400-1699736400@www.godoycruz.sisargentina.com
SUMMARY:Vendimias Distritales de Godoy Cruz
DESCRIPTION:[vc_row][vc_column][vc_column_text]Acto central\, elección y coronación de la nueva reina distrital. \nEntrada gratuita. \nVilla Marini. “Vendimia….tierra de todos los tiempos”. \nDirección: Natalia Sicre.[/vc_column_text][/vc_column][/vc_row][vc_row][vc_column][vc_single_image image=»104986″ img_size=»full»][/vc_column][/vc_row] \n
URL:https://www.godoycruz.sisargentina.com/evento/vendimias-distritales-godoy-cruz-21/
ATTACH;FMTTYPE=image/jpeg:https://www.godoycruz.sisargentina.com/wp-content/uploads/2023/11/WhatsApp-Image-2023-11-06-at-2.22.22-PM-1.jpeg
END:VEVENT
END:VCALENDAR